BEGIN:VCALENDAR
VERSION:2.0
PRODID:-//Edlio Inc//Edlio Calendar//EN
CALSCALE:GREGORIAN
METHOD:PUBLISH
X-WR-CALNAME:6B Math  - Red Hill Lutheran Church & School
X-ORIGINAL-URL:https://www.redhillschool.org
X-WR-CALDESC:Events calendar for www.redhillschool.org
X-WR-TIMEZONE:US/Pacific
REFRESH-INTERVAL;VALUE=DURATION:PT1H
X-Robots-Tag:noindex
X-PUBLISHED-TTL:PT1H
BEGIN:VTIMEZONE
TZID:US/Pacific
BEGIN:STANDARD
TZOFFSETFROM:-0700
TZOFFSETTO:-0800
DTSTART:20071104T020000
RRULE:FREQ=YEARLY;BYMONTH=11;BYDAY=1SU
END:STANDARD
BEGIN:DAYLIGHT
TZOFFSETFROM:-0800
TZOFFSETTO:-0700
DTSTART:20070311T020000
RRULE:FREQ=YEARLY;BYMONTH=3;BYDAY=2SU
END:DAYLIGHT
END:VTIMEZONE
BEGIN:VTIMEZONE
TZID:US/East-Indiana
BEGIN:STANDARD
TZOFFSETFROM:-0500
TZOFFSETTO:-0500
DTSTART:19701025T020000
END:STANDARD
END:VTIMEZONE
BEGIN:VTIMEZONE
TZID:US/Eastern
BEGIN:STANDARD
TZOFFSETFROM:-0400
TZOFFSETTO:-0500
DTSTART:19701025T020000
RRULE:FREQ=YEARLY;BYMONTH=10;BYDAY=-1SU;UNTIL=20070311T020000
END:STANDARD
BEGIN:STANDARD
TZOFFSETFROM:-0400
TZOFFSETTO:-0500
DTSTART:20071104T020000
RRULE:FREQ=YEARLY;BYMONTH=11;BYDAY=1SU
END:STANDARD
BEGIN:DAYLIGHT
TZOFFSETFROM:-0500
TZOFFSETTO:-0400
DTSTART:19870405T020000
RRULE:FREQ=YEARLY;BYMONTH=4;BYDAY=1SU;UNTIL=20061029T020000
END:DAYLIGHT
BEGIN:DAYLIGHT
TZOFFSETFROM:-0500
TZOFFSETTO:-0400
DTSTART:20070311T020000
RRULE:FREQ=YEARLY;BYMONTH=3;BYDAY=2SU
END:DAYLIGHT
END:VTIMEZONE
BEGIN:VTIMEZONE
TZID:US/Michigan
BEGIN:STANDARD
TZOFFSETFROM:-0400
TZOFFSETTO:-0500
DTSTART:19701025T020000
RRULE:FREQ=YEARLY;BYMONTH=10;BYDAY=-1SU;UNTIL=20070311T020000
END:STANDARD
BEGIN:STANDARD
TZOFFSETFROM:-0400
TZOFFSETTO:-0500
DTSTART:20071104T020000
RRULE:FREQ=YEARLY;BYMONTH=11;BYDAY=1SU
END:STANDARD
BEGIN:DAYLIGHT
TZOFFSETFROM:-0500
TZOFFSETTO:-0400
DTSTART:19870405T020000
RRULE:FREQ=YEARLY;BYMONTH=4;BYDAY=1SU;UNTIL=20061029T020000
END:DAYLIGHT
BEGIN:DAYLIGHT
TZOFFSETFROM:-0500
TZOFFSETTO:-0400
DTSTART:20070311T020000
RRULE:FREQ=YEARLY;BYMONTH=3;BYDAY=2SU
END:DAYLIGHT
END:VTIMEZONE
BEGIN:VTIMEZONE
TZID:US/Central
BEGIN:STANDARD
TZOFFSETFROM:-0500
TZOFFSETTO:-0600
DTSTART:19701025T020000
RRULE:FREQ=YEARLY;BYMONTH=10;BYDAY=-1SU;UNTIL=20070311T020000
END:STANDARD
BEGIN:STANDARD
TZOFFSETFROM:-0500
TZOFFSETTO:-0600
DTSTART:20071104T020000
RRULE:FREQ=YEARLY;BYMONTH=11;BYDAY=1SU
END:STANDARD
BEGIN:DAYLIGHT
TZOFFSETFROM:-0600
TZOFFSETTO:-0500
DTSTART:19870405T020000
RRULE:FREQ=YEARLY;BYMONTH=4;BYDAY=1SU;UNTIL=20061029T020000
END:DAYLIGHT
BEGIN:DAYLIGHT
TZOFFSETFROM:-0600
TZOFFSETTO:-0500
DTSTART:20070311T020000
RRULE:FREQ=YEARLY;BYMONTH=3;BYDAY=2SU
END:DAYLIGHT
END:VTIMEZONE
BEGIN:VTIMEZONE
TZID:US/Mountain
BEGIN:STANDARD
TZOFFSETFROM:-0600
TZOFFSETTO:-0700
DTSTART:19701025T020000
RRULE:FREQ=YEARLY;BYMONTH=10;BYDAY=-1SU;UNTIL=20070311T020000
END:STANDARD
BEGIN:STANDARD
TZOFFSETFROM:-0600
TZOFFSETTO:-0700
DTSTART:20071104T020000
RRULE:FREQ=YEARLY;BYMONTH=11;BYDAY=1SU
END:STANDARD
BEGIN:DAYLIGHT
TZOFFSETFROM:-0700
TZOFFSETTO:-0600
DTSTART:19870405T020000
RRULE:FREQ=YEARLY;BYMONTH=4;BYDAY=1SU;UNTIL=20061029T020000
END:DAYLIGHT
BEGIN:DAYLIGHT
TZOFFSETFROM:-0700
TZOFFSETTO:-0600
DTSTART:20070311T020000
RRULE:FREQ=YEARLY;BYMONTH=3;BYDAY=2SU
END:DAYLIGHT
END:VTIMEZONE
BEGIN:VTIMEZONE
TZID:US/Arizona
BEGIN:STANDARD
TZOFFSETFROM:-0700
TZOFFSETTO:-0700
DTSTART:19701025T020000
END:STANDARD
END:VTIMEZONE
BEGIN:VTIMEZONE
TZID:US/Pacific
BEGIN:STANDARD
TZOFFSETFROM:-0700
TZOFFSETTO:-0800
DTSTART:19701025T020000
RRULE:FREQ=YEARLY;BYMONTH=10;BYDAY=-1SU;UNTIL=20070311T020000
END:STANDARD
BEGIN:STANDARD
TZOFFSETFROM:-0700
TZOFFSETTO:-0800
DTSTART:20071104T020000
RRULE:FREQ=YEARLY;BYMONTH=11;BYDAY=1SU
END:STANDARD
BEGIN:DAYLIGHT
TZOFFSETFROM:-0800
TZOFFSETTO:-0700
DTSTART:19870405T020000
RRULE:FREQ=YEARLY;BYMONTH=4;BYDAY=1SU;UNTIL=20061029T020000
END:DAYLIGHT
BEGIN:DAYLIGHT
TZOFFSETFROM:-0800
TZOFFSETTO:-0700
DTSTART:20070311T020000
RRULE:FREQ=YEARLY;BYMONTH=3;BYDAY=2SU
END:DAYLIGHT
END:VTIMEZONE
BEGIN:VTIMEZONE
TZID:US/Alaska
BEGIN:STANDARD
TZOFFSETFROM:-0800
TZOFFSETTO:-0900
DTSTART:19701025T020000
RRULE:FREQ=YEARLY;BYMONTH=10;BYDAY=-1SU;UNTIL=20070311T020000
END:STANDARD
BEGIN:STANDARD
TZOFFSETFROM:-0800
TZOFFSETTO:-0900
DTSTART:20071104T020000
RRULE:FREQ=YEARLY;BYMONTH=11;BYDAY=1SU
END:STANDARD
BEGIN:DAYLIGHT
TZOFFSETFROM:-0900
TZOFFSETTO:-0800
DTSTART:19870405T020000
RRULE:FREQ=YEARLY;BYMONTH=4;BYDAY=1SU;UNTIL=20061029T020000
END:DAYLIGHT
BEGIN:DAYLIGHT
TZOFFSETFROM:-0900
TZOFFSETTO:-0800
DTSTART:20070311T020000
RRULE:FREQ=YEARLY;BYMONTH=3;BYDAY=2SU
END:DAYLIGHT
END:VTIMEZONE
BEGIN:VTIMEZONE
TZID:US/Hawaii
BEGIN:STANDARD
TZOFFSETFROM:-1000
TZOFFSETTO:-1000
DTSTART:19701025T020000
END:STANDARD
END:VTIMEZONE
BEGIN:VTIMEZONE
TZID:US/Aleutian
BEGIN:STANDARD
TZOFFSETFROM:-1000
TZOFFSETTO:-1000
DTSTART:19701025T020000
END:STANDARD
END:VTIMEZONE
BEGIN:VTIMEZONE
TZID:US/Samoa
BEGIN:STANDARD
TZOFFSETFROM:-1100
TZOFFSETTO:-1100
DTSTART:19701025T020000
END:STANDARD
END:VTIMEZONE
BEGIN:VEVENT
UID:11793998@www.redhillschool.org#20260424
SEQUENCE:0
CREATED:20260423T194628Z
LAST-MODIFIED:20260423T194628Z
DTSTART;TZID=US/Pacific:20260424T235800
DTEND;TZID=US/Pacific:20260424T235900
SUMMARY:Assignment: 8.4 & 8.5 Quiz - Corrections & Observations
DESCRIPTION:<div>\n<div>show work and correct solution&nbsp\;</div>\n<div>&
 nbsp\;</div>\n<div>why you got it wrong and what you did to fix or correct
  yourself</div>\n</div>\n<a href=' https://www.redhillschool.org/apps/clas
 ses/1061860/assignments/#hw-11793998'>Read more</a>
URL:https://www.redhillschool.org/apps/classes/1061860/assignments/#hw-1179
 3998
ORGANIZER;CN="Edlio Calendar":MAILTO:noreply@www.redhillschool.org
DTSTAMP:20260424T064216Z
END:VEVENT
BEGIN:VEVENT
UID:11745399@www.redhillschool.org#20260424
SEQUENCE:0
CREATED:20260420T154231Z
LAST-MODIFIED:20260420T154231Z
DTSTART;TZID=US/Pacific:20260424T235800
DTEND;TZID=US/Pacific:20260424T235900
SUMMARY:Assignment: Ch. 8 Test
DESCRIPTION:<div>\n<div>Review on Tuesday - consider all HW\, quizzes\, IXL
 \, Freckle\, and notes&nbsp\;</div>\n</div>\n<a href=' https://www.redhill
 school.org/apps/classes/1061860/assignments/#hw-11745399'>Read more</a>
URL:https://www.redhillschool.org/apps/classes/1061860/assignments/#hw-1174
 5399
ORGANIZER;CN="Edlio Calendar":MAILTO:noreply@www.redhillschool.org
DTSTAMP:20260424T064216Z
END:VEVENT
BEGIN:VEVENT
UID:11784336@www.redhillschool.org#20260424
SEQUENCE:0
CREATED:20260422T201417Z
LAST-MODIFIED:20260422T201417Z
DTSTART;TZID=US/Pacific:20260424T235800
DTEND;TZID=US/Pacific:20260424T235900
SUMMARY:Assignment: Ch. 8 Test Study Guide Review
DESCRIPTION:<div>\n<div>due next class</div>\n</div>\n<a href=' https://www
 .redhillschool.org/apps/classes/1061860/assignments/#hw-11784336'>Read mor
 e</a>
URL:https://www.redhillschool.org/apps/classes/1061860/assignments/#hw-1178
 4336
ORGANIZER;CN="Edlio Calendar":MAILTO:noreply@www.redhillschool.org
DTSTAMP:20260424T064216Z
END:VEVENT
END:VCALENDAR
